BEGIN:VCALENDAR
VERSION:2.0
PRODID:-//CostQuest Associates - ECPv6.15.20//NONSGML v1.0//EN
CALSCALE:GREGORIAN
METHOD:PUBLISH
X-WR-CALNAME:CostQuest Associates
X-ORIGINAL-URL:https://www.costquest.com
X-WR-CALDESC:Events for CostQuest Associates
REFRESH-INTERVAL;VALUE=DURATION:PT1H
X-Robots-Tag:noindex
X-PUBLISHED-TTL:PT1H
BEGIN:VTIMEZONE
TZID:America/Los_Angeles
BEGIN:DAYLIGHT
TZOFFSETFROM:-0800
TZOFFSETTO:-0700
TZNAME:PDT
DTSTART:20240310T100000
END:DAYLIGHT
BEGIN:STANDARD
TZOFFSETFROM:-0700
TZOFFSETTO:-0800
TZNAME:PST
DTSTART:20241103T090000
END:STANDARD
BEGIN:DAYLIGHT
TZOFFSETFROM:-0800
TZOFFSETTO:-0700
TZNAME:PDT
DTSTART:20250309T100000
END:DAYLIGHT
BEGIN:STANDARD
TZOFFSETFROM:-0700
TZOFFSETTO:-0800
TZNAME:PST
DTSTART:20251102T090000
END:STANDARD
BEGIN:DAYLIGHT
TZOFFSETFROM:-0800
TZOFFSETTO:-0700
TZNAME:PDT
DTSTART:20260308T100000
END:DAYLIGHT
BEGIN:STANDARD
TZOFFSETFROM:-0700
TZOFFSETTO:-0800
TZNAME:PST
DTSTART:20261101T090000
END:STANDARD
END:VTIMEZONE
BEGIN:VTIMEZONE
TZID:Pacific/Honolulu
BEGIN:STANDARD
TZOFFSETFROM:-1000
TZOFFSETTO:-1000
TZNAME:HST
DTSTART:20240101T000000
END:STANDARD
END:VTIMEZONE
BEGIN:VEVENT
DTSTART;VALUE=DATE:20250512
DTEND;VALUE=DATE:20250515
DTSTAMP:20260421T090950
CREATED:20250313T192744Z
LAST-MODIFIED:20250410T174813Z
UID:10000137-1747008000-1747267199@www.costquest.com
SUMMARY:Alaska Telecom Association Annual Meeting - Kodiak\, AK
DESCRIPTION:Join CostQuest Associates in Kodiak\, Alaska for this year’s Alaska Telecom Association Annual Meeting. We’ll be there from May 12-14\, 2025. \nAlso\, on Tuesday at 1:00pm\, catch CostQuest team members\, Leslie Stegeman and Dan Gordon\, speak on cost modeling methodologies and Fabric improvement processes specific to Alaska. \n 
URL:https://www.costquest.com/event/alaska-telecom-association-annual-meeting-may-12-14-2025/
LOCATION:Kodiak Marketplace\, 111 Rezanof Dr W\, Kodiak\, AK\, 99615\, United States
END:VEVENT
BEGIN:VEVENT
DTSTART;VALUE=DATE:20250119
DTEND;VALUE=DATE:20250123
DTSTAMP:20260421T090950
CREATED:20241108T191741Z
LAST-MODIFIED:20241112T215240Z
UID:10000112-1737244800-1737590399@www.costquest.com
SUMMARY:Alaska Telecom Association 2025 Winter Conference -  Waikoloa\, HI
DESCRIPTION:CostQuest Team Members will be at the Alaska Telecom Association 2025 Winter Conference in Waikoloa\, HI 1/19-22\, 2025.  \n 
URL:https://www.costquest.com/event/alaska-telecom-association-2025-winter-conference-waikoloa-hi/
LOCATION:Waikoloa Beach Marriott\, 69-275 Waikoloa Beach Drive\, Waikoloa Beach\, HI\, 96738\, United States
END:VEVENT
END:VCALENDAR